BEGIN:VCALENDAR
VERSION:2.0
PRODID:-//Europe Startup Guide//EN
CALSCALE:GREGORIAN
METHOD:PUBLISH
X-WR-CALNAME:Europe Startup Guide events
X-WR-TIMEZONE:UTC
BEGIN:VEVENT
UID:wmf-we-make-future-2026@europe-startup-guide.com
DTSTAMP:20260420T200730Z
SUMMARY:WMF - We Make Future 2026
DTSTART;VALUE=DATE:20260613
DTEND;VALUE=DATE:20260616
LOCATION:Rimini\, Italy
DESCRIPTION:International festival on digital and social innovation\, entrepreneurship\, and future technologies.
URL:https://www.wmf.net/
END:VEVENT
END:VCALENDAR